BEGIN:VCALENDAR
VERSION:2.0
PRODID:-//ChamberMaster//Event Calendar 2.0//EN
METHOD:PUBLISH
X-PUBLISHED-TTL:P1H
REFRESH-INTERVAL:P1H
CALSCALE:GREGORIAN
BEGIN:VTIMEZONE
TZID:America/Los_Angeles
BEGIN:DAYLIGHT
RRULE:FREQ=YEARLY;BYMONTH=3;BYDAY=2SU
DTSTART:20070101T000000
TZOFFSETFROM:-0800
TZOFFSETTO:-0700
TZNAME:Pacific Daylight Time
END:DAYLIGHT
BEGIN:STANDARD
RRULE:FREQ=YEARLY;BYMONTH=11;BYDAY=1SU
DTSTART:20070101T000000
TZOFFSETFROM:-0700
TZOFFSETTO:-0800
TZNAME:Pacific Standard Time
END:STANDARD
END:VTIMEZONE
BEGIN:VEVENT
DTSTART;TZID=America/Los_Angeles:20260605T190000
DTEND;TZID=America/Los_Angeles:20260605T200000
X-MICROSOFT-CDO-ALLDAYEVENT:FALSE
SUMMARY:Young Artists Scholarship Concert
DESCRIPTION:Sunriver Music Festival will feature the 2026 Young Artists Scholarship recipients who are among Central Oregon's finest young musicians aspiring to a career in classical music. All are invited\; tickets are not required. Just show up and be inspired by the future of music!
X-ALT-DESC;FMTTYPE=text/html:<!DOCTYPE html><html><head><title></title></head><body aria-disabled="false"><p>Sunriver Music Festival will feature the 2026 Young Artists Scholarship recipients who are among Central Oregon&rsquo\;s finest young musicians aspiring to a career in classical music. All are invited\; tickets are not required. Just show up and be inspired by the future of music!</p></body></html>
LOCATION:
UID:e.3576.1440576
SEQUENCE:3
DTSTAMP:20260421T112419Z
URL:https://webflow.bendchamber.org/chamber-events/Details/young-artists-scholarship-concert-1705722?sourceTypeId=Hub
END:VEVENT
END:VCALENDAR
