BEGIN:VCALENDAR
VERSION:2.0
PRODID:-//ChamberMaster//Event Calendar 2.0//EN
METHOD:PUBLISH
X-PUBLISHED-TTL:P1H
REFRESH-INTERVAL:P1H
CALSCALE:GREGORIAN
BEGIN:VTIMEZONE
TZID:America/Los_Angeles
BEGIN:DAYLIGHT
RRULE:FREQ=YEARLY;BYMONTH=3;BYDAY=2SU
DTSTART:20070101T000000
TZOFFSETFROM:-0800
TZOFFSETTO:-0700
TZNAME:Pacific Daylight Time
END:DAYLIGHT
BEGIN:STANDARD
RRULE:FREQ=YEARLY;BYMONTH=11;BYDAY=1SU
DTSTART:20070101T000000
TZOFFSETFROM:-0700
TZOFFSETTO:-0800
TZNAME:Pacific Standard Time
END:STANDARD
END:VTIMEZONE
BEGIN:VEVENT
DTSTART;TZID=America/Los_Angeles:20260428T100000
DTEND;TZID=America/Los_Angeles:20260428T140000
X-MICROSOFT-CDO-ALLDAYEVENT:FALSE
SUMMARY:Training: Leasing & Resident Engagement in Property Management
DESCRIPTION:Join us for a high-value luncheon designed to strengthen both sides of community success — leasing strategies and resident engagement across all budgets.\n\nYou’ll walk away with practical ideas you can implement immediately\, from creating powerful first impressions to planning events that build trust\, connection\, and long-term satisfaction.\n\nWhether you manage a small rural property or a large metro portfolio\, this session will give you actionable tools to attract the right residents and keep them feeling at home.
X-ALT-DESC;FMTTYPE=text/html:Join us for a high-value luncheon designed to strengthen both sides of community success — leasing strategies and resident engagement across all budgets.\n\nYou’ll walk away with practical ideas you can implement immediately\, from creating powerful first impressions to planning events that build trust\, connection\, and long-term satisfaction.\n\nWhether you manage a small rural property or a large metro portfolio\, this session will give you actionable tools to attract the right residents and keep them feeling at home.
LOCATION:2960 NW Northwest Way Redmond OR 97556
UID:e.3576.1423086
SEQUENCE:3
DTSTAMP:20260421T112702Z
URL:https://webflow.bendchamber.org/chamber-events/Details/training-leasing-resident-engagement-in-property-management-1682625?sourceTypeId=Hub
END:VEVENT
END:VCALENDAR
