BEGIN:VCALENDAR
VERSION:2.0
PRODID:-//ChamberMaster//Event Calendar 2.0//EN
METHOD:PUBLISH
X-PUBLISHED-TTL:P1H
REFRESH-INTERVAL:P1H
CALSCALE:GREGORIAN
BEGIN:VTIMEZONE
TZID:America/Los_Angeles
BEGIN:DAYLIGHT
RRULE:FREQ=YEARLY;BYMONTH=3;BYDAY=2SU
DTSTART:20070101T000000
TZOFFSETFROM:-0800
TZOFFSETTO:-0700
TZNAME:Pacific Daylight Time
END:DAYLIGHT
BEGIN:STANDARD
RRULE:FREQ=YEARLY;BYMONTH=11;BYDAY=1SU
DTSTART:20070101T000000
TZOFFSETFROM:-0700
TZOFFSETTO:-0800
TZNAME:Pacific Standard Time
END:STANDARD
END:VTIMEZONE
BEGIN:VEVENT
DTSTART;TZID=America/Los_Angeles:20260429T110000
DTEND;TZID=America/Los_Angeles:20260429T130000
X-MICROSOFT-CDO-ALLDAYEVENT:FALSE
SUMMARY:Thistle & Nest Prineville Open House
DESCRIPTION:Attainable homeownership Open House at Solace at Iron Horse\, in Prineville.\nThistle & Nest is excited to bring affordable housing opportunities to Crook County and to welcome neighbors inside one of their brand-new homes.\n\nTour this home: 1501 NE Laughlin Road #13\, directly behind the Ochoco Plaza.\n✅ Farmhouse-style design\n✅ Energy-efficient features\n✅ 3-bedroom layout (shared-wall home)\n\nIf you’ve been hoping for a pathway to homeownership in Prineville\, this is a great place to start. Come tour\, ask questions\, and learn how Thistle & Nest helps make homeownership attainable.\n\nHouseholds making up to 80% of the Area Median Income are eligible for our down payment assistance program\, which finances 30-40% of the home's market price. Additional assistance is available for Veterans.\n\nHome listing: https://jojeda.sites.cbmoxi.com/.../1501-NE.../219195929\n\nThe dream of homeownership is closer than you imagine!
X-ALT-DESC;FMTTYPE=text/html:Attainable homeownership Open House at Solace at Iron Horse\, in Prineville.\nThistle & Nest is excited to bring affordable housing opportunities to Crook County and to welcome neighbors inside one of their brand-new homes.\n\nTour this home: 1501 NE Laughlin Road #13\, directly behind the Ochoco Plaza.\n✅ Farmhouse-style design\n✅ Energy-efficient features\n✅ 3-bedroom layout (shared-wall home)\n\nIf you’ve been hoping for a pathway to homeownership in Prineville\, this is a great place to start. Come tour\, ask questions\, and learn how Thistle & Nest helps make homeownership attainable.\n\nHouseholds making up to 80% of the Area Median Income are eligible for our down payment assistance program\, which finances 30-40% of the home's market price. Additional assistance is available for Veterans.\n\nHome listing: https://jojeda.sites.cbmoxi.com/.../1501-NE.../219195929\n\nThe dream of homeownership is closer than you imagine!
LOCATION:Prineville OR 97754
UID:e.3576.1444714
SEQUENCE:3
DTSTAMP:20260421T112429Z
URL:https://webflow.bendchamber.org/chamber-events/Details/thistle-nest-prineville-open-house-1711117?sourceTypeId=Hub
END:VEVENT
END:VCALENDAR
