BEGIN:VCALENDAR
VERSION:2.0
PRODID:-//ChamberMaster//Event Calendar 2.0//EN
METHOD:PUBLISH
X-PUBLISHED-TTL:P1H
REFRESH-INTERVAL:P1H
CALSCALE:GREGORIAN
BEGIN:VTIMEZONE
TZID:America/Los_Angeles
BEGIN:DAYLIGHT
RRULE:FREQ=YEARLY;BYMONTH=3;BYDAY=2SU
DTSTART:20070101T000000
TZOFFSETFROM:-0800
TZOFFSETTO:-0700
TZNAME:Pacific Daylight Time
END:DAYLIGHT
BEGIN:STANDARD
RRULE:FREQ=YEARLY;BYMONTH=11;BYDAY=1SU
DTSTART:20070101T000000
TZOFFSETFROM:-0700
TZOFFSETTO:-0800
TZNAME:Pacific Standard Time
END:STANDARD
END:VTIMEZONE
BEGIN:VEVENT
DTSTART;TZID=America/Los_Angeles:20260810T193000
DTEND;TZID=America/Los_Angeles:20260820T193000
X-MICROSOFT-CDO-ALLDAYEVENT:FALSE
SUMMARY:Sunriver Music Festival 49th Season
DESCRIPTION:Sunriver Music Festival fills Central Oregon with music! In August 2026\, Artistic Director & Conductor Brett Mitchell will lead world-class orchestra musicians and acclaimed soloists in a remarkable 49th season.\n\nThe Summer Festival opens August 10 at Sunriver Resort's historic Great Hall and closes August 20 at the iconic Tower Theatre in Bend. Four classical concerts\, one pops concert and a family concert will be presented. Featured artists include pianist Michelle Cann\, violinist William Hagen\, baritone Timothy Jones\, and violinist Tessa Lark.\n\nFriends of the Festival members have first choice of the best seats\, plus receive ticket discounts\, gifts\, invites to special events\, and potential tax benefits.\n\nTicket sales open April 1 for Conductor's Guild members and to the public on June 1. Get the best seats by becoming a member today!\n\nVisit sunrivermusic.org for artist bios\, concert schedule\, membership details\, and to buy tickets.
X-ALT-DESC;FMTTYPE=text/html:<!DOCTYPE html><html><head><title></title></head><body aria-disabled="false"><p>Sunriver Music Festival fills Central Oregon with music! In August 2026\, Artistic Director &amp\; Conductor Brett Mitchell will lead world-class orchestra musicians and acclaimed soloists in a remarkable 49th season.<br><br>The Summer Festival opens August 10 at Sunriver Resort&rsquo\;s historic Great Hall and closes August 20 at the iconic Tower Theatre in Bend. Four classical concerts\, one pops concert and a family concert will be presented. Featured artists include pianist Michelle Cann\, violinist William Hagen\, baritone Timothy Jones\, and violinist Tessa Lark.<br><br>Friends of the Festival members have first choice of the best seats\, plus receive ticket discounts\, gifts\, invites to special events\, and potential tax benefits.<br><br>Ticket sales open April 1 for Conductor&rsquo\;s Guild members and to the public on June 1. Get the best seats by becoming a member today!<br><br>Visit sunrivermusic.org for artist bios\, concert schedule\, membership details\, and to buy tickets.</p></body></html>
LOCATION:
UID:e.3576.1420102
SEQUENCE:3
DTSTAMP:20260421T112736Z
URL:https://webflow.bendchamber.org/chamber-events/Details/sunriver-music-festival-49th-season-1678875?sourceTypeId=Hub
END:VEVENT
END:VCALENDAR
