BEGIN:VCALENDAR
VERSION:2.0
PRODID:-//ChamberMaster//Event Calendar 2.0//EN
METHOD:PUBLISH
X-PUBLISHED-TTL:P1H
REFRESH-INTERVAL:P1H
CALSCALE:GREGORIAN
BEGIN:VTIMEZONE
TZID:America/Los_Angeles
BEGIN:DAYLIGHT
RRULE:FREQ=YEARLY;BYMONTH=3;BYDAY=2SU
DTSTART:20070101T000000
TZOFFSETFROM:-0800
TZOFFSETTO:-0700
TZNAME:Pacific Daylight Time
END:DAYLIGHT
BEGIN:STANDARD
RRULE:FREQ=YEARLY;BYMONTH=11;BYDAY=1SU
DTSTART:20070101T000000
TZOFFSETFROM:-0700
TZOFFSETTO:-0800
TZNAME:Pacific Standard Time
END:STANDARD
END:VTIMEZONE
BEGIN:VEVENT
DTSTART;TZID=America/Los_Angeles:20260502T130000
DTEND;TZID=America/Los_Angeles:20260502T170000
X-MICROSOFT-CDO-ALLDAYEVENT:FALSE
SUMMARY:Purpose Derby
DESCRIPTION:Join Us at the Purpose Derby!Come be a part of the Purpose Derby\, Bend's most spirited Kentucky Derby watch party supporting StirrUp Purpose a local nonprofit organization dedicated to providing purpose and healing through therapeutic and adaptive riding and equine programs for children and adults with disabilities\, veterans\, first responders and individuals experiencing homelessness.This Kentucky Derby watch party will take place on May 2 at the Commonwealth Pub. It will include live and silent auctions\, a derby hat contest\, fun games and activities\, as well as food truck fare and signature cocktails - all around the excitement of race day and all to support StirrUp Purpose programs.Your participation will help support the programming\, supplies\, equine care and qualified staffing costs of our services. Importantly\, this will allow us to serve more participants and make an even bigger impact in our community. To learn more about our work please visit: https://stirruppurpose.org/. We hope to see you there donning your finest derby hats and wear! Entry is free of charge. Additionally\, we would be grateful for any contributions to our organization.\nDon't miss out on the chance to be part of something special and memorable. See you there!
X-ALT-DESC;FMTTYPE=text/html:<!DOCTYPE html><html><head><title></title></head><body aria-disabled="false"><h2 style='box-sizing: border-box\; padding: 0px\; margin: 0px\; color: rgb(88\, 81\, 99)\; font-family: "Neue Plak"\, -apple-system\, BlinkMacSystemFont\, Roboto\, "Helvetica Neue"\, Helvetica\, Tahoma\, Arial\, sans-serif\; font-style: normal\; font-variant-ligatures: normal\; font-variant-caps: normal\; letter-spacing: 0.1px\; orphans: 2\; text-align: start\; text-indent: 0px\; text-transform: none\; widows: 2\; word-spacing: 0px\; -webkit-text-stroke-width: 0px\; white-space: normal\; text-decoration-thickness: initial\; text-decoration-style: initial\; text-decoration-color: initial\;'>Join Us at the Purpose Derby!</h2><p style='box-sizing: border-box\; padding: 0px 0px 12px\; margin: 12px 0px 0px\; color: rgb(88\, 81\, 99)\; font-family: "Neue Plak"\, -apple-system\, BlinkMacSystemFont\, Roboto\, "Helvetica Neue"\, Helvetica\, Tahoma\, Arial\, sans-serif\; font-size: 18px\; font-style: normal\; font-variant-ligatures: normal\; font-variant-caps: normal\; font-weight: 400\; letter-spacing: 0.1px\; orphans: 2\; text-align: start\; text-indent: 0px\; text-transform: none\; widows: 2\; word-spacing: 0px\; -webkit-text-stroke-width: 0px\; white-space: normal\; text-decoration-thickness: initial\; text-decoration-style: initial\; text-decoration-color: initial\;'>Come be a part of the Purpose Derby\, Bend&rsquo\;s most spirited Kentucky Derby watch party supporting StirrUp Purpose&mdash\;a local nonprofit organization dedicated to providing purpose and healing through therapeutic and adaptive riding and equine programs for children and adults with disabilities\, veterans\, first responders and individuals experiencing homelessness.</p><p style='box-sizing: border-box\; padding: 0px 0px 12px\; margin: 12px 0px 0px\; color: rgb(88\, 81\, 99)\; font-family: "Neue Plak"\, -apple-system\, BlinkMacSystemFont\, Roboto\, "Helvetica Neue"\, Helvetica\, Tahoma\, Arial\, sans-serif\; font-size: 18px\; font-style: normal\; font-variant-ligatures: normal\; font-variant-caps: normal\; font-weight: 400\; letter-spacing: 0.1px\; orphans: 2\; text-align: start\; text-indent: 0px\; text-transform: none\; widows: 2\; word-spacing: 0px\; -webkit-text-stroke-width: 0px\; white-space: normal\; text-decoration-thickness: initial\; text-decoration-style: initial\; text-decoration-color: initial\;'>This Kentucky Derby watch party will take place on May 2 at the Commonwealth Pub. It will include live and silent auctions\, a derby hat contest\, fun games and activities\, as well as food truck fare and signature cocktails - all around the excitement of race day and all to support StirrUp Purpose programs.</p><p style='box-sizing: border-box\; padding: 0px 0px 12px\; margin: 12px 0px 0px\; color: rgb(88\, 81\, 99)\; font-family: "Neue Plak"\, -apple-system\, BlinkMacSystemFont\, Roboto\, "Helvetica Neue"\, Helvetica\, Tahoma\, Arial\, sans-serif\; font-size: 18px\; font-style: normal\; font-variant-ligatures: normal\; font-variant-caps: normal\; font-weight: 400\; letter-spacing: 0.1px\; orphans: 2\; text-align: start\; text-indent: 0px\; text-transform: none\; widows: 2\; word-spacing: 0px\; -webkit-text-stroke-width: 0px\; white-space: normal\; text-decoration-thickness: initial\; text-decoration-style: initial\; text-decoration-color: initial\;'>Your participation will help support the programming\, supplies\, equine care and qualified staffing costs of our services. Importantly\, this will allow us to serve more participants and make an even bigger impact in our community. To learn more about our work please visit:&nbsp\;<a data-msys-clicktrack="0" fr-original-style="box-sizing: border-box\; padding: 0px\; margin: 0px\; color: rgb(54\, 89\, 227)\; text-decoration: underline\;" href="https://stirruppurpose.org/" rel="nofollow noopener noreferrer" style="box-sizing: border-box\; padding: 0px\; margin: 0px\; color: rgb(54\, 89\, 227)\; text-decoration: underline\; user-select: auto\;" target="_blank" title="https://stirruppurpose.org/">https://stirruppurpose.org/</a>. We hope to see you there donning your finest derby hats and wear! Entry is free of charge. Additionally\, we would be grateful for any contributions to our organization.<br style="box-sizing: border-box\; padding: 0px\; margin: 0px\;">Don&#39\;t miss out on the chance to be part of something special and memorable. See you there!</p></body></html>
LOCATION:
UID:e.3576.1443057
SEQUENCE:3
DTSTAMP:20260421T112224Z
URL:https://webflow.bendchamber.org/chamber-events/Details/purpose-derby-1709164?sourceTypeId=Hub
END:VEVENT
END:VCALENDAR
