BEGIN:VCALENDAR
VERSION:2.0
PRODID:-//ChamberMaster//Event Calendar 2.0//EN
METHOD:PUBLISH
X-PUBLISHED-TTL:P1H
REFRESH-INTERVAL:P1H
CALSCALE:GREGORIAN
BEGIN:VTIMEZONE
TZID:America/Los_Angeles
BEGIN:DAYLIGHT
RRULE:FREQ=YEARLY;BYMONTH=3;BYDAY=2SU
DTSTART:20070101T000000
TZOFFSETFROM:-0800
TZOFFSETTO:-0700
TZNAME:Pacific Daylight Time
END:DAYLIGHT
BEGIN:STANDARD
RRULE:FREQ=YEARLY;BYMONTH=11;BYDAY=1SU
DTSTART:20070101T000000
TZOFFSETFROM:-0700
TZOFFSETTO:-0800
TZNAME:Pacific Standard Time
END:STANDARD
END:VTIMEZONE
BEGIN:VEVENT
DTSTART;TZID=America/Los_Angeles:20260503T140000
DTEND;TZID=America/Los_Angeles:20260503T160000
X-MICROSOFT-CDO-ALLDAYEVENT:FALSE
SUMMARY:Partners In Care - Mother's Day Tea
DESCRIPTION:This event offers a memorable way to celebrate the women who raised us while supporting a vital local cause. Admission is $50 and includes food and beverages at Tetherow Resort. Proceeds from Mother's Day Tea will benefit Partners In Care's Queen of Hearts initiative\, a philanthropic effort with a bold and inspiring goal: to bring together 1\,000 donors each contributing $1\,000 in honor or in memory of a woman to build a $1 million endowment for Hospice House. This endowment will help ensure access to high‑quality\, compassionate hospice care for generations to come. Contact: donations@partnersbend.org.
X-ALT-DESC;FMTTYPE=text/html:<!DOCTYPE html><html><head><title></title></head><body aria-disabled="false"><p>This event offers a memorable way to celebrate the women who raised us while supporting a vital local cause. Admission is $50 and includes food and beverages at Tetherow Resort.&nbsp\;</p><p>Proceeds from Mother&rsquo\;s Day Tea will benefit Partners In Care&rsquo\;s Queen of Hearts initiative\, a philanthropic effort with a bold and inspiring goal: to bring together 1\,000 donors each contributing $1\,000 in honor or in memory of a woman to build a $1 million endowment for Hospice House.&nbsp\;</p><p>This endowment will help ensure access to high‑quality\, compassionate hospice care for generations to come.</p><p>&nbsp\;Contact: <a fr-original-style="" href="mailto:donations@partnersbend.org" style="user-select: auto\;">donations@partnersbend.org</a>.</p><table fr-original-style="box-sizing: border-box\; border-collapse: collapse\; border-spacing: 0px\; background-color: rgb(255\, 255\, 255)\; width: 306px\; max-width: 100%\; margin-bottom: 0px\; color: rgb(118\, 118\, 118)\; font-family: Roboto\, sans-serif\; font-size: 12px\; font-style: normal\; font-variant-ligatures: normal\; font-variant-caps: normal\; font-weight: 400\; letter-spacing: 0.5px\; orphans: 2\; text-align: start\; text-transform: none\; widows: 2\; word-spacing: 0px\; -webkit-text-stroke-width: 0px\; white-space: normal\; text-decoration-thickness: initial\; text-decoration-style: initial\; text-decoration-color: initial\;" style="box-sizing: border-box\; border-collapse: collapse\; border-spacing: 0px\; background-color: rgb(255\, 255\, 255)\; width: 306px\; max-width: 100%\; margin-bottom: 0px\; color: rgb(118\, 118\, 118)\; font-family: Roboto\, sans-serif\; font-size: 12px\; font-style: normal\; font-variant-ligatures: normal\; font-variant-caps: normal\; font-weight: 400\; letter-spacing: 0.5px\; orphans: 2\; text-align: start\; text-transform: none\; widows: 2\; word-spacing: 0px\; -webkit-text-stroke-width: 0px\; white-space: normal\; text-decoration-thickness: initial\; text-decoration-style: initial\; text-decoration-color: initial\; border: 0px\; empty-cells: show\;"><tbody style="box-sizing: border-box\; background-color: white\;"><tr fr-original-style='box-sizing: border-box\; background-color: white\; box-shadow: none\; font-family: "Open Sans"\; font-size: 14px\; color: rgb(62\, 76\, 94)\; line-height: 21px\; font-weight: 400\; font-style: normal\;' style='box-sizing: border-box\; background-color: white\; box-shadow: none\; font-family: "Open Sans"\; font-size: 14px\; color: rgb(62\, 76\, 94)\; line-height: 21px\; font-weight: 400\; font-style: normal\; user-select: none\;'><td colspan="1" fr-original-style="box-sizing: border-box\; padding: 5px 5px 5px 0px\; text-align: right\; line-height: 1\; vertical-align: middle\; border: none\; height: 40px\;" style="box-sizing: border-box\; padding: 5px 5px 5px 0px\; text-align: right\; line-height: 1\; vertical-align: middle\; border: none\; height: 40px\; min-width: 5px\; user-select: text\;"><br></td></tr></tbody></table></body></html>
LOCATION:
UID:e.3576.1413705
SEQUENCE:3
DTSTAMP:20260421T112536Z
URL:https://webflow.bendchamber.org/chamber-events/Details/partners-in-care-mother-s-day-tea-1670617?sourceTypeId=Hub
END:VEVENT
END:VCALENDAR
