BEGIN:VCALENDAR
VERSION:2.0
PRODID:-//ChamberMaster//Event Calendar 2.0//EN
METHOD:PUBLISH
X-PUBLISHED-TTL:P1H
REFRESH-INTERVAL:P1H
CALSCALE:GREGORIAN
BEGIN:VTIMEZONE
TZID:America/Los_Angeles
BEGIN:DAYLIGHT
RRULE:FREQ=YEARLY;BYMONTH=3;BYDAY=2SU
DTSTART:20070101T000000
TZOFFSETFROM:-0800
TZOFFSETTO:-0700
TZNAME:Pacific Daylight Time
END:DAYLIGHT
BEGIN:STANDARD
RRULE:FREQ=YEARLY;BYMONTH=11;BYDAY=1SU
DTSTART:20070101T000000
TZOFFSETFROM:-0700
TZOFFSETTO:-0800
TZNAME:Pacific Standard Time
END:STANDARD
END:VTIMEZONE
BEGIN:VEVENT
DTSTART;TZID=America/Los_Angeles:20260521T190000
DTEND;TZID=America/Los_Angeles:20260521T210000
X-MICROSOFT-CDO-ALLDAYEVENT:FALSE
SUMMARY:Music in Central Oregon: A Community Conversation
DESCRIPTION:MusicOregon\, Oregon's only nonprofit supporting independent music professionals\, is hosting a free community gathering for musicians\, venue operators\, music educators\, and anyone working in the local music scene. Come share what's working\, what's challenging\, and what resources would make a real difference. Light refreshments provided. All are welcome.RSVP: MusicOregon's Community Listening Session: Central Oregon\, Eventbrite site
X-ALT-DESC;FMTTYPE=text/html:<!DOCTYPE html><html><head><title></title></head><body aria-disabled="false" data-gr-ext-installed="" data-new-gr-c-s-check-loaded="14.1284.0" data-new-gr-c-s-loaded="14.1284.0" spellcheck="false"><p>MusicOregon\, Oregon&#39\;s only nonprofit supporting independent music professionals\, is hosting a free community gathering for musicians\, venue operators\, music educators\, and anyone working in the local music scene. Come share what&#39\;s working\, what&#39\;s challenging\, and what resources would make a real difference. Light refreshments provided. All are welcome.</p><p>RSVP: <a fr-original-style="" href="https://www.eventbrite.com/e/1987093852203?aff=oddtdtcreator" style="user-select: auto\;">MusicOregon&#39\;s Community Listening Session: Central Oregon\, Eventbrite site</a></p></body></html>
LOCATION:
UID:e.3576.1446586
SEQUENCE:3
DTSTAMP:20260421T112419Z
URL:https://webflow.bendchamber.org/chamber-events/Details/music-in-central-oregon-a-community-conversation-1713361?sourceTypeId=Hub
END:VEVENT
END:VCALENDAR
