BEGIN:VCALENDAR
VERSION:2.0
PRODID:-//ChamberMaster//Event Calendar 2.0//EN
METHOD:PUBLISH
X-PUBLISHED-TTL:P1H
REFRESH-INTERVAL:P1H
CALSCALE:GREGORIAN
BEGIN:VTIMEZONE
TZID:America/Los_Angeles
BEGIN:DAYLIGHT
RRULE:FREQ=YEARLY;BYMONTH=3;BYDAY=2SU
DTSTART:20070101T000000
TZOFFSETFROM:-0800
TZOFFSETTO:-0700
TZNAME:Pacific Daylight Time
END:DAYLIGHT
BEGIN:STANDARD
RRULE:FREQ=YEARLY;BYMONTH=11;BYDAY=1SU
DTSTART:20070101T000000
TZOFFSETFROM:-0700
TZOFFSETTO:-0800
TZNAME:Pacific Standard Time
END:STANDARD
END:VTIMEZONE
BEGIN:VEVENT
DTSTART;TZID=America/Los_Angeles:20260410T190000
DTEND;TZID=America/Los_Angeles:20260410T213000
X-MICROSOFT-CDO-ALLDAYEVENT:FALSE
SUMMARY:"Into the Breeches!" presented by Ellipse Theatre Community
DESCRIPTION:Touring across Central Oregon! Check our performance dates and venues below!\n\nOpen Space Event Studios - 220 NE Lafayette Ave\, Bend\, OR 97701\nFriday\, April 10 - 7pm  |  Saturday\, April 11- 2pm & 7pm\n\nHigh Desert Music Hall - 818 SW Forest Ave\, Redmond\, OR 97756\nSunday\, April 12 - 2pm & 7pm\n\nSunriver Christian Fellowship - 18139 Cottonwood Rd\, Sunriver\, OR 97707\nSaturday\, April 18 - 2pm\n\nLa Pine Activity Center - 16450 Victory Way\, La Pine\, OR 97739\nSunday\, April 19  |  Lunch - 1:00pm  |  Show - 2:00pm\n\nSisters Firehouse Community Hall - 301 S Elm St\, Sisters\, OR 97759\nSaturday\, April 25 - 2pm & 7pm\n\nBowman Museum - 246 N Main St\, Prineville\, OR 97754\nSunday\, April 26 - 2pm  *Donation only performance\n\nUnity Community Central Oregon - 63645 Scenic Dr\, Bend\, OR 97703\nSaturday\, May 2 - 3PM & 7pm
X-ALT-DESC;FMTTYPE=text/html:Touring across Central Oregon! Check our performance dates and venues below!\n\nOpen Space Event Studios - 220 NE Lafayette Ave\, Bend\, OR 97701\nFriday\, April 10 - 7pm  |  Saturday\, April 11- 2pm & 7pm\n\nHigh Desert Music Hall - 818 SW Forest Ave\, Redmond\, OR 97756\nSunday\, April 12 - 2pm & 7pm\n\nSunriver Christian Fellowship - 18139 Cottonwood Rd\, Sunriver\, OR 97707\nSaturday\, April 18 - 2pm\n\nLa Pine Activity Center - 16450 Victory Way\, La Pine\, OR 97739\nSunday\, April 19  |  Lunch - 1:00pm  |  Show - 2:00pm\n\nSisters Firehouse Community Hall - 301 S Elm St\, Sisters\, OR 97759\nSaturday\, April 25 - 2pm & 7pm\n\nBowman Museum - 246 N Main St\, Prineville\, OR 97754\nSunday\, April 26 - 2pm  *Donation only performance\n\nUnity Community Central Oregon - 63645 Scenic Dr\, Bend\, OR 97703\nSaturday\, May 2 - 3PM & 7pm
LOCATION:220 NE Lafayette Ave Bend OR 97701
UID:e.3576.1420118
SEQUENCE:3
DTSTAMP:20260421T112600Z
URL:https://webflow.bendchamber.org/chamber-events/Details/into-the-breeches-presented-by-ellipse-theatre-community-1678890?sourceTypeId=Hub
END:VEVENT
END:VCALENDAR
