BEGIN:VCALENDAR
VERSION:2.0
PRODID:-//ChamberMaster//Event Calendar 2.0//EN
METHOD:PUBLISH
X-PUBLISHED-TTL:P1H
REFRESH-INTERVAL:P1H
CALSCALE:GREGORIAN
BEGIN:VTIMEZONE
TZID:America/Los_Angeles
BEGIN:DAYLIGHT
RRULE:FREQ=YEARLY;BYMONTH=3;BYDAY=2SU
DTSTART:20070101T000000
TZOFFSETFROM:-0800
TZOFFSETTO:-0700
TZNAME:Pacific Daylight Time
END:DAYLIGHT
BEGIN:STANDARD
RRULE:FREQ=YEARLY;BYMONTH=11;BYDAY=1SU
DTSTART:20070101T000000
TZOFFSETFROM:-0700
TZOFFSETTO:-0800
TZNAME:Pacific Standard Time
END:STANDARD
END:VTIMEZONE
BEGIN:VEVENT
DTSTART;TZID=America/Los_Angeles:20260429T075000
DTEND;TZID=America/Los_Angeles:20260429T100000
X-MICROSOFT-CDO-ALLDAYEVENT:FALSE
SUMMARY:Hot Topics from the Executive Suite
DESCRIPTION:Join Central Oregon's leading executives for an insightful dialogue on the latest business trends.. \nGain valuable insights from industry leaders\, network with Central Oregon's top executives\, stay ahead of the latest business trends and strategies\, and engage in thought-provoking discussions on the future of business in our region. And lots of networking with peers and folks you might not have met yet.  \nJoin us for a timely discussion on the biggest issues affecting Central Oregon businesses in 2026\, including labor market shifts\, layoffs and hiring uncertainty\, housing and childcare barriers\, cost-of-living pressures\, AI adoption and workforce upskilling\, business investment and growth challenges\, and the need for greater resilience in energy\, infrastructure\, and long-term planning. Our panelists will share local insight on these trends and what they mean for employers across the region.\n\nThere will be plenty of time for questions throughout this panel. We hope to see you there!
X-ALT-DESC;FMTTYPE=text/html:Join Central Oregon's leading executives for an insightful dialogue on the latest business trends.. \nGain valuable insights from industry leaders\, network with Central Oregon's top executives\, stay ahead of the latest business trends and strategies\, and engage in thought-provoking discussions on the future of business in our region. And lots of networking with peers and folks you might not have met yet.  \nJoin us for a timely discussion on the biggest issues affecting Central Oregon businesses in 2026\, including labor market shifts\, layoffs and hiring uncertainty\, housing and childcare barriers\, cost-of-living pressures\, AI adoption and workforce upskilling\, business investment and growth challenges\, and the need for greater resilience in energy\, infrastructure\, and long-term planning. Our panelists will share local insight on these trends and what they mean for employers across the region.\n\nThere will be plenty of time for questions throughout this panel. We hope to see you there!
LOCATION:730 SW Columbia St. Bend OR 97702
UID:e.3576.1446906
SEQUENCE:3
DTSTAMP:20260421T112250Z
URL:https://webflow.bendchamber.org/chamber-events/Details/hot-topics-from-the-executive-suite-1713716?sourceTypeId=Hub
END:VEVENT
END:VCALENDAR
