BEGIN:VCALENDAR
VERSION:2.0
PRODID:-//ChamberMaster//Event Calendar 2.0//EN
METHOD:PUBLISH
X-PUBLISHED-TTL:P1H
REFRESH-INTERVAL:P1H
CALSCALE:GREGORIAN
BEGIN:VTIMEZONE
TZID:America/Los_Angeles
BEGIN:DAYLIGHT
RRULE:FREQ=YEARLY;BYMONTH=3;BYDAY=2SU
DTSTART:20070101T000000
TZOFFSETFROM:-0800
TZOFFSETTO:-0700
TZNAME:Pacific Daylight Time
END:DAYLIGHT
BEGIN:STANDARD
RRULE:FREQ=YEARLY;BYMONTH=11;BYDAY=1SU
DTSTART:20070101T000000
TZOFFSETFROM:-0700
TZOFFSETTO:-0800
TZNAME:Pacific Standard Time
END:STANDARD
END:VTIMEZONE
BEGIN:VEVENT
DTSTART;TZID=America/Los_Angeles:20260528T160000
DTEND;TZID=America/Los_Angeles:20260528T190000
X-MICROSOFT-CDO-ALLDAYEVENT:FALSE
SUMMARY:Bloom Aesthetics - Grand Opening Party
DESCRIPTION:Bloom Aesthetics Grand Opening PartyCelebrate the official Grand Opening of Bloom Aesthetics in Bend with an unforgettable evening of beauty\, education\, and celebration.We're inviting our community and patients to experience our newest location with a fun celebration complete with cocktails\, delicious bites\, giveaways\, and more!✨ What to expect:Cocktails + bitesSwag bags & door prizesRaffles for treatments and medical-grade skincareExclusive event-only pricing on treatments & packagesLive education from top aesthetic brands including: Sculptra\, Botox\, Skinbetter Science\, Sciton LaserWhether you're a long-time patient or new to Bloom Aesthetics\, this is the perfect opportunity to learn\, celebrate\, and take advantage of special offers you won't see again.Bring a friend and receive an extra raffle entry\, because everything is better shared.\n✨RSVPs are appreciated (but not required!) so we can have plenty of drinks\, bites\, and goodies for everyone.
X-ALT-DESC;FMTTYPE=text/html:<!DOCTYPE html><html><head><title></title></head><body aria-disabled="false"><p><meta charset="utf-8"></p><h2 style='box-sizing: border-box\; padding: 0px\; margin: 0px\; color: rgb(88\, 81\, 99)\; font-family: "Neue Plak"\, -apple-system\, "system-ui"\, Roboto\, "Helvetica Neue"\, Helvetica\, Tahoma\, Arial\, sans-serif\; font-style: normal\; font-variant-ligatures: normal\; font-variant-caps: normal\; letter-spacing: 0.1px\; orphans: 2\; text-align: start\; text-indent: 0px\; text-transform: none\; widows: 2\; word-spacing: 0px\; -webkit-text-stroke-width: 0px\; white-space: normal\; text-decoration-thickness: initial\; text-decoration-style: initial\; text-decoration-color: initial\;'>Bloom Aesthetics Grand Opening Party</h2><p style='box-sizing: border-box\; padding: 0px 0px 12px\; margin: 12px 0px 0px\; color: rgb(88\, 81\, 99)\; font-family: "Neue Plak"\, -apple-system\, "system-ui"\, Roboto\, "Helvetica Neue"\, Helvetica\, Tahoma\, Arial\, sans-serif\; font-size: 18px\; font-style: normal\; font-variant-ligatures: normal\; font-variant-caps: normal\; font-weight: 400\; letter-spacing: 0.1px\; orphans: 2\; text-align: start\; text-indent: 0px\; text-transform: none\; widows: 2\; word-spacing: 0px\; -webkit-text-stroke-width: 0px\; white-space: normal\; text-decoration-thickness: initial\; text-decoration-style: initial\; text-decoration-color: initial\;'>Celebrate the official Grand Opening of Bloom Aesthetics in Bend with an unforgettable evening of beauty\, education\, and celebration.</p><p style='box-sizing: border-box\; padding: 0px 0px 12px\; margin: 12px 0px 0px\; color: rgb(88\, 81\, 99)\; font-family: "Neue Plak"\, -apple-system\, "system-ui"\, Roboto\, "Helvetica Neue"\, Helvetica\, Tahoma\, Arial\, sans-serif\; font-size: 18px\; font-style: normal\; font-variant-ligatures: normal\; font-variant-caps: normal\; font-weight: 400\; letter-spacing: 0.1px\; orphans: 2\; text-align: start\; text-indent: 0px\; text-transform: none\; widows: 2\; word-spacing: 0px\; -webkit-text-stroke-width: 0px\; white-space: normal\; text-decoration-thickness: initial\; text-decoration-style: initial\; text-decoration-color: initial\;'>We&rsquo\;re inviting our community and patients to experience our newest location with a fun celebration complete with cocktails\, delicious bites\, giveaways\, and more!</p><p style='box-sizing: border-box\; padding: 0px 0px 12px\; margin: 12px 0px 0px\; color: rgb(88\, 81\, 99)\; font-family: "Neue Plak"\, -apple-system\, "system-ui"\, Roboto\, "Helvetica Neue"\, Helvetica\, Tahoma\, Arial\, sans-serif\; font-size: 18px\; font-style: normal\; font-variant-ligatures: normal\; font-variant-caps: normal\; font-weight: 400\; letter-spacing: 0.1px\; orphans: 2\; text-align: start\; text-indent: 0px\; text-transform: none\; widows: 2\; word-spacing: 0px\; -webkit-text-stroke-width: 0px\; white-space: normal\; text-decoration-thickness: initial\; text-decoration-style: initial\; text-decoration-color: initial\;'>✨ <strong fr-original-style="box-sizing: border-box\; padding: 0px\; margin: 0px\; font-weight: 600\;" style="box-sizing: border-box\; padding: 0px\; margin: 0px\; font-weight: 600\;"><strong fr-original-style="box-sizing: border-box\; padding: 0px\; margin: 0px\; font-weight: 600\;" style="box-sizing: border-box\; padding: 0px\; margin: 0px\; font-weight: 600\;">What to expect:</strong></strong></p><ul fr-original-style='box-sizing: border-box\; padding: 0px 0px 0px 32px\; margin: 12px 0px 0px\; color: rgb(88\, 81\, 99)\; font-family: "Neue Plak"\, -apple-system\, "system-ui"\, Roboto\, "Helvetica Neue"\, Helvetica\, Tahoma\, Arial\, sans-serif\; font-size: 18px\; font-style: normal\; font-variant-ligatures: normal\; font-variant-caps: normal\; font-weight: 400\; letter-spacing: 0.1px\; orphans: 2\; text-align: start\; text-indent: 0px\; text-transform: none\; widows: 2\; word-spacing: 0px\; -webkit-text-stroke-width: 0px\; white-space: normal\; text-decoration-thickness: initial\; text-decoration-style: initial\; text-decoration-color: initial\;' style='box-sizing: border-box\; padding: 0px 0px 0px 32px\; margin: 12px 0px 0px\; color: rgb(88\, 81\, 99)\; font-family: "Neue Plak"\, -apple-system\, "system-ui"\, Roboto\, "Helvetica Neue"\, Helvetica\, Tahoma\, Arial\, sans-serif\; font-size: 18px\; font-style: normal\; font-variant-ligatures: normal\; font-variant-caps: normal\; font-weight: 400\; letter-spacing: 0.1px\; orphans: 2\; text-align: start\; text-indent: 0px\; text-transform: none\; widows: 2\; word-spacing: 0px\; -webkit-text-stroke-width: 0px\; white-space: normal\; text-decoration-thickness: initial\; text-decoration-style: initial\; text-decoration-color: initial\; list-style-position: inside\;'><li style="box-sizing: border-box\; padding: 0px 0px 12px\; margin: 0px\;">Cocktails + bites</li><li style="box-sizing: border-box\; padding: 0px 0px 12px\; margin: 4px 0px 0px\;">Swag bags &amp\; door prizes</li><li style="box-sizing: border-box\; padding: 0px 0px 12px\; margin: 4px 0px 0px\;">Raffles for treatments and medical-grade skincare</li><li style="box-sizing: border-box\; padding: 0px 0px 12px\; margin: 4px 0px 0px\;"><strong fr-original-style="box-sizing: border-box\; padding: 0px\; margin: 0px\; font-weight: 600\;" style="box-sizing: border-box\; padding: 0px\; margin: 0px\; font-weight: 600\;"><strong fr-original-style="box-sizing: border-box\; padding: 0px\; margin: 0px\; font-weight: 600\;" style="box-sizing: border-box\; padding: 0px\; margin: 0px\; font-weight: 600\;">Exclusive event-only pricing</strong></strong> on treatments &amp\; packages</li><li style="box-sizing: border-box\; padding: 0px 0px 12px\; margin: 4px 0px 0px\;">Live education from top aesthetic brands including: Sculptra\, Botox\, Skinbetter Science\, Sciton Laser</li></ul><p style='box-sizing: border-box\; padding: 0px 0px 12px\; margin: 12px 0px 0px\; color: rgb(88\, 81\, 99)\; font-family: "Neue Plak"\, -apple-system\, "system-ui"\, Roboto\, "Helvetica Neue"\, Helvetica\, Tahoma\, Arial\, sans-serif\; font-size: 18px\; font-style: normal\; font-variant-ligatures: normal\; font-variant-caps: normal\; font-weight: 400\; letter-spacing: 0.1px\; orphans: 2\; text-align: start\; text-indent: 0px\; text-transform: none\; widows: 2\; word-spacing: 0px\; -webkit-text-stroke-width: 0px\; white-space: normal\; text-decoration-thickness: initial\; text-decoration-style: initial\; text-decoration-color: initial\;'>Whether you&rsquo\;re a long-time patient or new to Bloom Aesthetics\, this is the perfect opportunity to learn\, celebrate\, and take advantage of special offers you won&rsquo\;t see again.</p><p style='box-sizing: border-box\; padding: 0px 0px 12px\; margin: 12px 0px 0px\; color: rgb(88\, 81\, 99)\; font-family: "Neue Plak"\, -apple-system\, "system-ui"\, Roboto\, "Helvetica Neue"\, Helvetica\, Tahoma\, Arial\, sans-serif\; font-size: 18px\; font-style: normal\; font-variant-ligatures: normal\; font-variant-caps: normal\; font-weight: 400\; letter-spacing: 0.1px\; orphans: 2\; text-align: start\; text-indent: 0px\; text-transform: none\; widows: 2\; word-spacing: 0px\; -webkit-text-stroke-width: 0px\; white-space: normal\; text-decoration-thickness: initial\; text-decoration-style: initial\; text-decoration-color: initial\;'>Bring a friend and receive an <strong fr-original-style="box-sizing: border-box\; padding: 0px\; margin: 0px\; font-weight: 600\;" style="box-sizing: border-box\; padding: 0px\; margin: 0px\; font-weight: 600\;"><strong fr-original-style="box-sizing: border-box\; padding: 0px\; margin: 0px\; font-weight: 600\;" style="box-sizing: border-box\; padding: 0px\; margin: 0px\; font-weight: 600\;">extra raffle entry\,&nbsp\;</strong></strong>because everything is better shared.</p><p style='box-sizing: border-box\; padding: 0px 0px 12px\; margin: 12px 0px 0px\; color: rgb(88\, 81\, 99)\; font-family: "Neue Plak"\, -apple-system\, "system-ui"\, Roboto\, "Helvetica Neue"\, Helvetica\, Tahoma\, Arial\, sans-serif\; font-size: 18px\; font-style: normal\; font-variant-ligatures: normal\; font-variant-caps: normal\; font-weight: 400\; letter-spacing: 0.1px\; orphans: 2\; text-align: start\; text-indent: 0px\; text-transform: none\; widows: 2\; word-spacing: 0px\; -webkit-text-stroke-width: 0px\; white-space: normal\; text-decoration-thickness: initial\; text-decoration-style: initial\; text-decoration-color: initial\;'><br style="box-sizing: border-box\; padding: 0px\; margin: 0px\;"></p><p style='box-sizing: border-box\; padding: 0px 0px 12px\; margin: 12px 0px 0px\; color: rgb(88\, 81\, 99)\; font-family: "Neue Plak"\, -apple-system\, "system-ui"\, Roboto\, "Helvetica Neue"\, Helvetica\, Tahoma\, Arial\, sans-serif\; font-size: 18px\; font-style: normal\; font-variant-ligatures: normal\; font-variant-caps: normal\; font-weight: 400\; letter-spacing: 0.1px\; orphans: 2\; text-align: start\; text-indent: 0px\; text-transform: none\; widows: 2\; word-spacing: 0px\; -webkit-text-stroke-width: 0px\; white-space: normal\; text-decoration-thickness: initial\; text-decoration-style: initial\; text-decoration-color: initial\;'>✨RSVPs are appreciated (but not required!) so we can have plenty of drinks\, bites\, and goodies for everyone.</p></body></html>
LOCATION:
UID:e.3576.1447434
SEQUENCE:3
DTSTAMP:20260421T112357Z
URL:https://webflow.bendchamber.org/chamber-events/Details/bloom-aesthetics-grand-opening-party-1714370?sourceTypeId=Hub
END:VEVENT
END:VCALENDAR
