BEGIN:VCALENDAR
VERSION:2.0
PRODID:-//ChamberMaster//Event Calendar 2.0//EN
METHOD:PUBLISH
X-PUBLISHED-TTL:P1H
REFRESH-INTERVAL:P1H
CALSCALE:GREGORIAN
BEGIN:VTIMEZONE
TZID:America/Los_Angeles
BEGIN:DAYLIGHT
RRULE:FREQ=YEARLY;BYMONTH=3;BYDAY=2SU
DTSTART:20070101T000000
TZOFFSETFROM:-0800
TZOFFSETTO:-0700
TZNAME:Pacific Daylight Time
END:DAYLIGHT
BEGIN:STANDARD
RRULE:FREQ=YEARLY;BYMONTH=11;BYDAY=1SU
DTSTART:20070101T000000
TZOFFSETFROM:-0700
TZOFFSETTO:-0800
TZNAME:Pacific Standard Time
END:STANDARD
END:VTIMEZONE
BEGIN:VEVENT
DTSTART;TZID=America/Los_Angeles:20260606T100000
DTEND;TZID=America/Los_Angeles:20260606T170000
X-MICROSOFT-CDO-ALLDAYEVENT:FALSE
SUMMARY:Bend Handmade Market 2026
DESCRIPTION:Saturday\, June 6thDowntown Bend | Bond St & Oregon Ave10 AM - 5 PM | Free to attend!COME DISCOVER THE BEST MAKERS AND ARTISTS IN THE PNW AT URBAN CRAFT UPRISING'S BEND HANDMADE MARKET!We are SO excited to be returning the Bend Handmade Market to Downtown Bend this June! You'll find over 100 makers and artists selling handmade goods. For those of you who have never been to an Urban Craft Uprising show\, our events feature handcrafted goods including jewelry\, housewares\, clothing\, toys\, art\, bath & body products\, paper goods\, fiber arts\, candles\, and so much more!Urban Craft has been producing craft markets since 2005. We have a large following in the Pacific Northwest primarily in Seattle and Portland and we are excited to have expanded our horizons these past few years\, bringing new shows to Bend\, to the Oregon Coast\, to the Olympic Peninsula\, and to other new locales around the PNW. We are so excited to showcase the local talent of Bend artisans\, and to introduce you to some of our favorite vendors from all around the Pacific Northwest. The Bend Handmade Market will be free to attend\, and a great way to support small businesses while finding unique gifts for wedding presents\, housewarming gifts\, birthdays\, decor for your home\, treats for others\, and fun goodies for yourself!Contact: info@urbancraftuprising.com
X-ALT-DESC;FMTTYPE=text/html:<!DOCTYPE html><html><head><title></title></head><body aria-disabled="false"><div style="box-sizing: border-box\; margin-left: -21px\; margin-right: -21px\; position: relative\; margin-bottom: 1.1em\; color: rgb(95\, 114\, 127)\; font-family: Montserrat\; font-size: 16px\; font-style: normal\; font-variant-ligatures: normal\; font-variant-caps: normal\; font-weight: 400\; letter-spacing: normal\; orphans: 2\; text-align: start\; text-indent: 0px\; text-transform: none\; widows: 2\; word-spacing: 0px\; -webkit-text-stroke-width: 0px\; white-space: normal\; background-color: rgb(255\, 254\, 242)\; text-decoration-thickness: initial\; text-decoration-style: initial\; text-decoration-color: initial\;"><div style="box-sizing: border-box\; width: 1212px\; min-height: 1px\; padding-left: 0px\; padding-right: 0px\; position: relative\; float: left\;"><div style="box-sizing: border-box\; padding-left: 21px\; padding-right: 21px\; width: 1212px\;"><div style="box-sizing: border-box\;"><div style="box-sizing: border-box\; margin-bottom: 1.1em\;"><div style="box-sizing: border-box\;"><span style="font-family: Arial\, Helvetica\, sans-serif\; font-size: 11px\;"><strong fr-original-style="" style="font-weight: 700\;"><span style="color: rgb(0\, 0\, 0)\;">Saturday\, June 6th</span></strong></span></div><p><span style="color: rgb(0\, 0\, 0)\;"><strong fr-original-style="" style="font-weight: 700\;"><span style="font-size: 11px\;"><span style="font-family: Arial\,Helvetica\,sans-serif\;">Downtown Bend | Bond St &amp\; Oregon Ave</span></span></strong></span></p><p><span style="color: rgb(0\, 0\, 0)\;"><span style="font-family: Arial\, Helvetica\, sans-serif\; font-size: 11px\;"><strong fr-original-style="" style="font-weight: 700\;">10 AM - 5 PM | Free to attend!</strong></span></span></p><div style="box-sizing: border-box\;"><span style="color: rgb(0\, 0\, 0)\;"><span style="font-size: 11px\;"><span style="font-family: Arial\,Helvetica\,sans-serif\;"><span style="box-sizing: border-box\; margin-bottom: 0px\;"><strong fr-original-style="" style="font-weight: 700\;">COME DISCOVER THE BEST MAKERS AND ARTISTS IN THE PNW AT URBAN CRAFT UPRISING&rsquo\;S BEND HANDMADE MARKET!</strong></span></span></span></span></div></div></div></div></div></div><div style="box-sizing: border-box\; margin-left: -21px\; margin-right: -21px\; position: relative\; margin-bottom: 1.1em\; color: rgb(95\, 114\, 127)\; font-family: Montserrat\; font-size: 16px\; font-style: normal\; font-variant-ligatures: normal\; font-variant-caps: normal\; font-weight: 400\; letter-spacing: normal\; orphans: 2\; text-align: start\; text-indent: 0px\; text-transform: none\; widows: 2\; word-spacing: 0px\; -webkit-text-stroke-width: 0px\; white-space: normal\; background-color: rgb(255\, 254\, 242)\; text-decoration-thickness: initial\; text-decoration-style: initial\; text-decoration-color: initial\;"><div style="box-sizing: border-box\; width: 1212px\; min-height: 1px\; padding-left: 0px\; padding-right: 0px\; position: relative\; float: left\;"><div style="box-sizing: border-box\; padding-left: 21px\; padding-right: 21px\; width: 1212px\;"><div style="box-sizing: border-box\;"><div style="box-sizing: border-box\; opacity: 1\; margin-bottom: 1.1em\; animation-name: bounceInRight\; animation-duration: 1s\; animation-fill-mode: both\;"><div style="box-sizing: border-box\;"><p style="box-sizing: border-box\; margin-top: 0px\; margin-right: 0px\; margin-bottom: 1.1em\; text-align: left\;"><span style="color: rgb(0\, 0\, 0)\;"><span style="font-size: 11px\;"><span style="font-family: Arial\, Helvetica\, sans-serif\;">We are SO excited to be returning the Bend Handmade Market to Downtown Bend this June! You&rsquo\;ll find over 100 makers and artists selling handmade goods. For those of you who have never been to an Urban Craft Uprising show\, our events feature handcrafted goods includ</span><span style="font-family: Arial\,Helvetica\,sans-serif\;">ing jewelry\, housewares\, clothing\, toys\, art\, bath &amp\; body products\, paper goods\, fiber arts\, candles\, and so much more!</span></span></span></p><p style="box-sizing: border-box\; margin-top: 0px\; margin-right: 0px\; margin-bottom: 1.1em\; text-align: left\;"><span style="font-family: Arial\, Helvetica\, sans-serif\; font-size: 11px\; color: rgb(0\, 0\, 0)\;">Urban Craft has been producing craft markets since 2005. We have a large following in the Pacific Northwest&ndash\;primarily in Seattle and Portland&ndash\;and we are excited to have expanded our horizons these past few years\, bringing new shows to Bend\, to the Oregon Coast\, to the Olympic Peninsula\, and to other new locales around the PNW. We are so excited to showcase the local talent of Bend artisans\, and to introduce you to some of our favorite vendors from all around the Pacific Northwest. The Bend Handmade Market will be free to attend\, and a great way to support small businesses while finding unique gifts for wedding presents\, housewarming gifts\, birthdays\, decor for your home\, treats for others\, and fun goodies for yourself!</span></p><p style="box-sizing: border-box\; margin-top: 0px\; margin-right: 0px\; margin-bottom: 1.1em\; text-align: left\;"><span style="font-family: Arial\, Helvetica\, sans-serif\; font-size: 14px\; color: rgb(0\, 0\, 0)\;">Contact: info@urbancraftuprising.com</span></p><table fr-original-style="box-sizing: border-box\; border-collapse: collapse\; border-spacing: 0px\; background-color: rgb(255\, 255\, 255)\; width: 498.328px\; max-width: 100%\; margin-bottom: 0px\; color: rgb(118\, 118\, 118)\; font-family: Roboto\, sans-serif\; font-size: 12px\; font-style: normal\; font-variant-ligatures: normal\; font-variant-caps: normal\; font-weight: 400\; letter-spacing: 0.5px\; orphans: 2\; text-align: start\; text-transform: none\; widows: 2\; word-spacing: 0px\; -webkit-text-stroke-width: 0px\; white-space: normal\; text-decoration-thickness: initial\; text-decoration-style: initial\; text-decoration-color: initial\;" style="box-sizing: border-box\; border-collapse: collapse\; border-spacing: 0px\; background-color: rgb(255\, 255\, 255)\; width: 498.328px\; max-width: 100%\; margin-bottom: 0px\; color: rgb(118\, 118\, 118)\; font-family: Roboto\, sans-serif\; font-size: 12px\; font-style: normal\; font-variant-ligatures: normal\; font-variant-caps: normal\; font-weight: 400\; letter-spacing: 0.5px\; orphans: 2\; text-align: start\; text-transform: none\; widows: 2\; word-spacing: 0px\; -webkit-text-stroke-width: 0px\; white-space: normal\; text-decoration-thickness: initial\; text-decoration-style: initial\; text-decoration-color: initial\; border: 0px\; empty-cells: show\;"><tbody><tr fr-original-style='box-sizing: border-box\; background-color: white\; box-shadow: none\; font-family: "Open Sans"\; font-size: 14px\; color: rgb(62\, 76\, 94)\; line-height: 21px\; font-weight: 400\; font-style: normal\;' style='box-sizing: border-box\; background-color: white\; box-shadow: none\; font-family: "Open Sans"\; font-size: 14px\; color: rgb(62\, 76\, 94)\; line-height: 21px\; font-weight: 400\; font-style: normal\; user-select: none\;'><td colspan="1" fr-original-style="box-sizing: border-box\; padding: 5px 5px 5px 0px\; text-align: right\; line-height: 1\; vertical-align: middle\; border: none\; height: 40px\;" style="box-sizing: border-box\; padding: 5px 5px 5px 0px\; text-align: right\; line-height: 1\; vertical-align: middle\; border: none\; height: 40px\; min-width: 5px\; user-select: text\;"><br></td></tr><tr fr-original-style='box-sizing: border-box\; background-color: white\; box-shadow: none\; font-family: "Open Sans"\; font-size: 14px\; color: rgb(62\, 76\, 94)\; line-height: 21px\; font-weight: 400\; font-style: normal\;' style='box-sizing: border-box\; background-color: white\; box-shadow: none\; font-family: "Open Sans"\; font-size: 14px\; color: rgb(62\, 76\, 94)\; line-height: 21px\; font-weight: 400\; font-style: normal\; user-select: none\;'><td colspan="1" fr-original-style="box-sizing: border-box\; padding: 5px 5px 5px 0px\; line-height: 1\; vertical-align: middle\; border: none\; background-color: unset\; min-height: 24px\; height: 40px\;" style="box-sizing: border-box\; padding: 5px 5px 5px 0px\; line-height: 1\; vertical-align: middle\; border: none\; background-color: unset\; min-height: 24px\; height: 40px\; min-width: 5px\; user-select: text\;"><br></td><td colspan="1" fr-original-style="box-sizing: border-box\; padding: 5px 5px 5px 0px\; text-align: right\; line-height: 1\; vertical-align: middle\; border: none\; background-color: unset\; min-height: 24px\; height: 40px\;" style="box-sizing: border-box\; padding: 5px 5px 5px 0px\; text-align: right\; line-height: 1\; vertical-align: middle\; border: none\; background-color: unset\; min-height: 24px\; height: 40px\; min-width: 5px\; user-select: text\;"><br></td></tr></tbody></table><p style="box-sizing: border-box\; margin-top: 0px\; margin-right: 0px\; margin-bottom: 1.1em\; text-align: left\;"><br></p></div></div></div></div></div></div></body></html>
LOCATION:
UID:e.3576.1415633
SEQUENCE:3
DTSTAMP:20260421T112250Z
URL:https://webflow.bendchamber.org/chamber-events/Details/bend-handmade-market-2026-1673101?sourceTypeId=Hub
END:VEVENT
END:VCALENDAR
