BEGIN:VCALENDAR
VERSION:2.0
PRODID:-//ChamberMaster//Event Calendar 2.0//EN
METHOD:PUBLISH
X-PUBLISHED-TTL:P1H
REFRESH-INTERVAL:P1H
CALSCALE:GREGORIAN
BEGIN:VTIMEZONE
TZID:America/Los_Angeles
BEGIN:DAYLIGHT
RRULE:FREQ=YEARLY;BYMONTH=3;BYDAY=2SU
DTSTART:20070101T000000
TZOFFSETFROM:-0800
TZOFFSETTO:-0700
TZNAME:Pacific Daylight Time
END:DAYLIGHT
BEGIN:STANDARD
RRULE:FREQ=YEARLY;BYMONTH=11;BYDAY=1SU
DTSTART:20070101T000000
TZOFFSETFROM:-0700
TZOFFSETTO:-0800
TZNAME:Pacific Standard Time
END:STANDARD
END:VTIMEZONE
BEGIN:VEVENT
DTSTART;TZID=America/Los_Angeles:20260521T180000
DTEND;TZID=America/Los_Angeles:20260521T200000
X-MICROSOFT-CDO-ALLDAYEVENT:FALSE
SUMMARY:Bend Chamber Centennial Celebration
DESCRIPTION:As the Bend Chamber turns 100\, join us for a special evening celebrating a century of connection\, collaboration\, and commerce in Bend.Raise a glass to the past and the future with a Centennial IPA crafted exclusively by our friends at Deschutes Brewery\, delicious hors d'oeuvres and signature cocktails from Bleu Bite Catering\, and live music from the Brandon Campbell Trio.Capture memories at a lively photo booth experience by Media Mindscape and contribute to a one-of-a-kind collaborative art piece with local artist Mark Jamnik\, helping us imagine the next 100 years together.Cocktail attire\, Bend-style elevated\, expressive\, and fun. Think polished with personality.Don't miss out! Tickets are limited and registration is required.You may cancel your ticket for a full refund up to 48 hours before the date and time of the event. Cancellations with less than 48 hours notice will not receive a refund. When you register for an event\, you agree to these terms. A 3% processing fee will be charged on all credit card payments.
X-ALT-DESC;FMTTYPE=text/html:<!DOCTYPE html><html><head style='box-sizing: border-box\; vertical-align: bottom\; display: block\; position: relative\; color: rgb(83\, 87\, 90)\; font-family: "Founders Grotesk"\, Arial\, sans-serif\; font-size: 20px\; font-style: normal\; font-variant-ligatures: normal\; font-variant-caps: normal\; font-weight: 400\; letter-spacing: normal\; orphans: 2\; text-align: start\; text-indent: 0px\; text-transform: none\; widows: 2\; word-spacing: 0px\; -webkit-text-stroke-width: 0px\; white-space: normal\; text-decoration-thickness: initial\; text-decoration-style: initial\; text-decoration-color: initial\;'><title></title></head><body aria-disabled="false"><p style='box-sizing: border-box\; vertical-align: bottom\; margin-top: 0px\; margin-bottom: 24px\; display: flow-root\; font-family: "Founders Grotesk"\, Arial\, sans-serif\; font-size: 20px\; font-weight: 400\; line-height: inherit\; letter-spacing: normal\; text-transform: none\; text-wrap: pretty\; color: rgb(83\, 87\, 90)\; font-style: normal\; font-variant-ligatures: normal\; font-variant-caps: normal\; orphans: 2\; text-align: start\; text-indent: 0px\; widows: 2\; word-spacing: 0px\; -webkit-text-stroke-width: 0px\; white-space-collapse: collapse\; background-color: rgb(249\, 249\, 249)\; text-decoration-thickness: initial\; text-decoration-style: initial\; text-decoration-color: initial\;'>As the Bend Chamber turns 100\, join us for a special evening celebrating a century of connection\, collaboration\, and commerce in Bend.</p><p style='box-sizing: border-box\; vertical-align: bottom\; margin-top: 12px\; margin-bottom: 24px\; display: flow-root\; font-family: "Founders Grotesk"\, Arial\, sans-serif\; font-size: 20px\; font-weight: 400\; line-height: inherit\; letter-spacing: normal\; text-transform: none\; text-wrap: pretty\; color: rgb(83\, 87\, 90)\; font-style: normal\; font-variant-ligatures: normal\; font-variant-caps: normal\; orphans: 2\; text-align: start\; text-indent: 0px\; widows: 2\; word-spacing: 0px\; -webkit-text-stroke-width: 0px\; white-space-collapse: collapse\; background-color: rgb(249\, 249\, 249)\; text-decoration-thickness: initial\; text-decoration-style: initial\; text-decoration-color: initial\;'>Raise a glass to the past and the future with a Centennial IPA crafted exclusively by our friends at Deschutes Brewery\, delicious hors d&#39\;oeuvres and signature cocktails from Bleu Bite Catering\, and live music from the Brandon Campbell Trio.</p><p style='box-sizing: border-box\; vertical-align: bottom\; margin-top: 12px\; margin-bottom: 24px\; display: flow-root\; font-family: "Founders Grotesk"\, Arial\, sans-serif\; font-size: 20px\; font-weight: 400\; line-height: inherit\; letter-spacing: normal\; text-transform: none\; text-wrap: pretty\; color: rgb(83\, 87\, 90)\; font-style: normal\; font-variant-ligatures: normal\; font-variant-caps: normal\; orphans: 2\; text-align: start\; text-indent: 0px\; widows: 2\; word-spacing: 0px\; -webkit-text-stroke-width: 0px\; white-space-collapse: collapse\; background-color: rgb(249\, 249\, 249)\; text-decoration-thickness: initial\; text-decoration-style: initial\; text-decoration-color: initial\;'>Capture memories at a lively photo booth experience by Media Mindscape and contribute to a one-of-a-kind collaborative art piece with local artist Mark Jamnik\, helping us imagine the next 100 years together.</p><p style='box-sizing: border-box\; vertical-align: bottom\; margin-top: 12px\; margin-bottom: 24px\; display: flow-root\; font-family: "Founders Grotesk"\, Arial\, sans-serif\; font-size: 20px\; font-weight: 400\; line-height: inherit\; letter-spacing: normal\; text-transform: none\; text-wrap: pretty\; color: rgb(83\, 87\, 90)\; font-style: normal\; font-variant-ligatures: normal\; font-variant-caps: normal\; orphans: 2\; text-align: start\; text-indent: 0px\; widows: 2\; word-spacing: 0px\; -webkit-text-stroke-width: 0px\; white-space-collapse: collapse\; background-color: rgb(249\, 249\, 249)\; text-decoration-thickness: initial\; text-decoration-style: initial\; text-decoration-color: initial\;'>Cocktail attire\, Bend-style&mdash\;elevated\, expressive\, and fun. Think polished with personality.</p><h6 style='box-sizing: border-box\; vertical-align: bottom\; margin-bottom: 24px\; font-weight: 400\; margin-top: 48px\; font-size: 18px\; line-height: 1.1\; display: flow-root\; font-family: "Founders Grotesk"\, Arial\, sans-serif\; letter-spacing: normal\; text-transform: none\; text-wrap: balance\; --_text-style---font-family: "Founders Grotesk"\,Arial\,sans-serif\; --_text-style---font-size: clamp(1rem\, 0.9642857142857143rem + 0.17857142857142858vw\, 1.125rem)\; --_text-style---line-height: 1.1\; --_text-style---font-weight: 400\; --_text-style---letter-spacing: 0em\; --_text-style---margin-top: clamp(2.25rem\, 2.0357142857142856rem + 1.0714285714285714vw\, 3rem)\; --_text-style---margin-bottom: clamp(1.25rem\, 1.1785714285714286rem + 0.35714285714285715vw\, 1.5rem)\; --_text-style---text-transform: none\; --_text-style---trim-top: .38em\; --_text-style---trim-bottom: .38em\; color: rgb(185\, 74\, 4)\; font-style: normal\; font-variant-ligatures: normal\; font-variant-caps: normal\; orphans: 2\; text-align: start\; text-indent: 0px\; widows: 2\; word-spacing: 0px\; -webkit-text-stroke-width: 0px\; white-space-collapse: collapse\; background-color: rgb(249\, 249\, 249)\; text-decoration-thickness: initial\; text-decoration-style: initial\; text-decoration-color: initial\;'><strong fr-original-style="box-sizing: border-box\; vertical-align: bottom\; font-weight: 600\;" style="box-sizing: border-box\; vertical-align: bottom\; font-weight: 600\;">Don&#39\;t miss out! Tickets are limited and registration is required.</strong></h6><p><em><span style="font-size: 14px\; color: rgb(84\, 87\, 90)\; font-family: Arial\, Helvetica\, sans-serif\;">You may cancel your ticket for a full refund up to 48 hours before the date and time of the event. Cancellations with less than 48 hours notice will not receive a refund. When you register for an event\, you agree to these terms.&nbsp\;</span></em><em><span style="font-size: 14px\; color: rgb(84\, 87\, 90)\; font-family: Arial\, Helvetica\, sans-serif\;"></span></em><span style="font-size: 14px\;"><span style="font-family: Arial\,Helvetica\,sans-serif\;"><span style="color: rgb(84\, 87\, 90)\;"><em>A 3% processing fee will be charged on all credit card payments</em><em>.&nbsp\;</em></span></span></span></p><header style='box-sizing: border-box\; vertical-align: bottom\; display: block\; position: relative\; color: rgb(83\, 87\, 90)\; font-family: "Founders Grotesk"\, Arial\, sans-serif\; font-size: 20px\; font-style: normal\; font-variant-ligatures: normal\; font-variant-caps: normal\; font-weight: 400\; letter-spacing: normal\; orphans: 2\; text-align: start\; text-indent: 0px\; text-transform: none\; widows: 2\; word-spacing: 0px\; -webkit-text-stroke-width: 0px\; white-space: normal\; text-decoration-thickness: initial\; text-decoration-style: initial\; text-decoration-color: initial\;'><div style="box-sizing: border-box\; vertical-align: bottom\; max-width: calc(-96px + min(1440px\, 100%))\; width: 1343.99px\; margin-left: auto\; margin-right: auto\; position: relative\; container: threshold-large / inline-size\; align-content: center\;"><div style="box-sizing: border-box\; vertical-align: bottom\; padding-top: 0px\; padding-left: 0px\; padding-right: 0px\;"><div style="box-sizing: border-box\; vertical-align: bottom\; gap: 64px\; grid-template-rows: auto\; grid-template-columns: 20rem minmax(0px\, 1fr)\; grid-auto-columns: minmax(0px\, 1fr)\; align-items: start\; display: grid\;"><div style="box-sizing: border-box\; vertical-align: bottom\; margin-bottom: 64px\;"><div style="box-sizing: border-box\; vertical-align: bottom\; margin-top: 64px\;"><div style="box-sizing: border-box\; vertical-align: bottom\; gap: 24px 40px\; --_column-count---value: 3\; grid-template-rows: auto\; grid-auto-columns: minmax(0px\, 1fr)\; grid-template-columns: repeat(3\, minmax(0px\, 1fr))\; display: grid\; --_gap---size: clamp(2rem\, 1.8571428571428572rem + 0.7142857142857143vw\, 2.5rem)\;"><div style="box-sizing: border-box\; vertical-align: bottom\;"><div style="box-sizing: border-box\; vertical-align: bottom\; flex-direction: column\; grid-template-rows: auto\; grid-template-columns: minmax(0px\, 1fr) minmax(0px\, 1fr)\; grid-auto-columns: minmax(0px\, 1fr)\; align-items: stretch\; display: flex\;"><div style="box-sizing: border-box\; vertical-align: bottom\; padding-top: 24px\; flex-direction: column\; flex: 1 1 0%\; justify-content: space-between\; display: flex\;"><span style="font-size: 14px\;"><br></span></div></div></div></div></div></div></div></div></div></header><section data-wf--section-boxed-cta--styles-theme="green" style='box-sizing: border-box\; vertical-align: bottom\; display: block\; position: relative\; color: rgb(252\, 252\, 252)\; --_theme---background: #3a5b64\; --_theme---text: #fcfcfc\; --_theme---background-2: #354d55\; --_theme---border: #dfedee\; --_theme---heading: #fcfcfc\; --_theme---h1: white\; --_theme---button-secondary--background-hover: #e0e0e0\; --_theme---outline-border: #fcfcfc\; --_theme---button-secondary--text-hover: #333\; --_theme---button-primary--background: #122f33\; --_theme---link-no-class: #e57100\; --_theme---selection--background: #f9f9f9\; --_theme---selection--text: #333\; --_theme---button-primary--border: #dfedee\; --_theme---button-primary--text: #dfedee\; --_theme---button-primary--background-hover: #2f575f\; --_theme---button-primary--border-hover: #fcfcfc1a\; --_theme---button-primary--text-hover: #f9f9f9\; --_theme---button-secondary--background: white\; --_theme---button-secondary--border: #f9f9f9\; --_theme---button-secondary--text: #333\; --_theme---button-secondary--border-hover: #e0e0e0\; --_theme---card-1--background: #3a5b64\; --_theme---card-1--text: white\; --_theme---card-1--background-hover: #354d55\; --_theme---card-1--text-hover: white\; --_theme---card-2--background: #b94a04\; --_theme---card-2--text: white\; --_theme---card-2--background-hover: #96390a\; --_theme---card-2--text-hover: white\; --_theme---card-3--background: #333\; --_theme---card-3--text: white\; --_theme---card-3--background-hover: #2f2b2d\; --_theme---card-3--text-hover: white\; font-family: "Founders Grotesk"\, Arial\, sans-serif\; font-size: 20px\; font-style: normal\; font-variant-ligatures: normal\; font-variant-caps: normal\; font-weight: 400\; letter-spacing: normal\; orphans: 2\; text-align: start\; text-indent: 0px\; text-transform: none\; widows: 2\; word-spacing: 0px\; -webkit-text-stroke-width: 0px\; white-space: normal\; text-decoration-thickness: initial\; text-decoration-style: initial\; text-decoration-color: initial\;'><span style="font-size: 14px\;"><br></span></section><p><br></p></body></html>
LOCATION:59800 S Hwy 97 Bend OR 97702
UID:e.3576.1403513
SEQUENCE:3
DTSTAMP:20260421T112233Z
URL:https://webflow.bendchamber.org/chamber-events/Details/bend-chamber-centennial-celebration-1658685?sourceTypeId=Hub
END:VEVENT
END:VCALENDAR
