BEGIN:VCALENDAR
VERSION:2.0
PRODID:-//ChamberMaster//Event Calendar 2.0//EN
METHOD:PUBLISH
X-PUBLISHED-TTL:P1H
REFRESH-INTERVAL:P1H
CALSCALE:GREGORIAN
BEGIN:VTIMEZONE
TZID:America/Los_Angeles
BEGIN:DAYLIGHT
RRULE:FREQ=YEARLY;BYMONTH=3;BYDAY=2SU
DTSTART:20070101T000000
TZOFFSETFROM:-0800
TZOFFSETTO:-0700
TZNAME:Pacific Daylight Time
END:DAYLIGHT
BEGIN:STANDARD
RRULE:FREQ=YEARLY;BYMONTH=11;BYDAY=1SU
DTSTART:20070101T000000
TZOFFSETFROM:-0700
TZOFFSETTO:-0800
TZNAME:Pacific Standard Time
END:STANDARD
END:VTIMEZONE
BEGIN:VEVENT
DTSTART;TZID=America/Los_Angeles:20260430T153000
DTEND;TZID=America/Los_Angeles:20260430T180000
X-MICROSOFT-CDO-ALLDAYEVENT:FALSE
SUMMARY:Are You're Protected? The Cybersecurity Reality Check
DESCRIPTION:Lifeline Computer Solutions is hosting a free cybersecurity seminar in Bend\, designed to help business leaders understand whether their organization is truly protected. Many companies rely on IT support\, cyber insurance\, and compliance standards\, but still have critical security gaps they don't see. This session will break down real-world risks\, explain what typical protections actually cover\, and highlight where vulnerabilities often exist. Attendees will hear from experienced professionals in cybersecurity\, insurance\, and law enforcement\, offering practical insights into today's threat landscape. You'll leave with a clearer understanding of your current risk level\, the questions you should be asking your IT team and insurance provider\, and the steps you can take to strengthen your defenses. The event takes place at Rogue Valley Country Club on April 29 from 3:30 to 6:00 PM. Admission is free\, but space is limited and advance registration is required. Register here: https://tinyurl.com/AreYouReallyProtectedBend
X-ALT-DESC;FMTTYPE=text/html:<!DOCTYPE html><html><head><title></title></head><body aria-disabled="false"><p>Lifeline Computer Solutions is hosting a free cybersecurity seminar in Bend\, designed to help business leaders understand whether their organization is truly protected. Many companies rely on IT support\, cyber insurance\, and compliance standards\, but still have critical security gaps they don&rsquo\;t see. This session will break down real-world risks\, explain what typical protections actually cover\, and highlight where vulnerabilities often exist. Attendees will hear from experienced professionals in cybersecurity\, insurance\, and law enforcement\, offering practical insights into today&rsquo\;s threat landscape. You&rsquo\;ll leave with a clearer understanding of your current risk level\, the questions you should be asking your IT team and insurance provider\, and the steps you can take to strengthen your defenses. The event takes place at Rogue Valley Country Club on April 29 from 3:30 to 6:00 PM. Admission is free\, but space is limited and advance registration is required. Register here: <a fr-original-style="" href="https://tinyurl.com/AreYouReallyProtectedBend" style="user-select: auto\;">https://tinyurl.com/AreYouReallyProtectedBend</a></p></body></html>
LOCATION:
UID:e.3576.1441330
SEQUENCE:3
DTSTAMP:20260421T112336Z
URL:https://webflow.bendchamber.org/chamber-events/Details/are-you-re-protected-the-cybersecurity-reality-check-1707065?sourceTypeId=Hub
END:VEVENT
END:VCALENDAR
