BEGIN:VCALENDAR
VERSION:2.0
PRODID:-//ChamberMaster//Event Calendar 2.0//EN
METHOD:PUBLISH
X-PUBLISHED-TTL:P1H
REFRESH-INTERVAL:P1H
CALSCALE:GREGORIAN
BEGIN:VTIMEZONE
TZID:America/Los_Angeles
BEGIN:DAYLIGHT
RRULE:FREQ=YEARLY;BYMONTH=3;BYDAY=2SU
DTSTART:20070101T000000
TZOFFSETFROM:-0800
TZOFFSETTO:-0700
TZNAME:Pacific Daylight Time
END:DAYLIGHT
BEGIN:STANDARD
RRULE:FREQ=YEARLY;BYMONTH=11;BYDAY=1SU
DTSTART:20070101T000000
TZOFFSETFROM:-0700
TZOFFSETTO:-0800
TZNAME:Pacific Standard Time
END:STANDARD
END:VTIMEZONE
BEGIN:VEVENT
DTSTART;TZID=America/Los_Angeles:20260423T164500
DTEND;TZID=America/Los_Angeles:20260423T193000
X-MICROSOFT-CDO-ALLDAYEVENT:FALSE
SUMMARY:Admission Event: PK-5th Grade Campus Tour & All-School Arts Night
DESCRIPTION:Get to know our campus with a tour led by our Lower School Head and then celebrate the creativity of PK 12 students during our annual All-School Arts Night. Explore visual art exhibits\, enjoy music and drama performances\, and soak up a festival atmosphere with food trucks on site. Rain or shine\, the fun goes on! Prospective PK-5th parents/guardians and students are invited to attend this family-friendly event.
X-ALT-DESC;FMTTYPE=text/html:<!DOCTYPE html><html><head><title></title></head><body aria-disabled="false"><p><meta charset="utf-8"><span style="color: rgb(34\, 34\, 34)\; font-family: Arial\, Helvetica\, sans-serif\; font-size: large\; font-style: normal\; font-variant-ligatures: normal\; font-variant-caps: normal\; font-weight: 400\; letter-spacing: normal\; orphans: 2\; text-align: start\; text-indent: 0px\; text-transform: none\; widows: 2\; word-spacing: 0px\; -webkit-text-stroke-width: 0px\; white-space: normal\; background-color: rgb(255\, 255\, 255)\; text-decoration-thickness: initial\; text-decoration-style: initial\; text-decoration-color: initial\; display: inline !important\; float: none\;">Get to know our campus with a tour led by our Lower School Head and then celebrate the creativity of PK&ndash\;12 students during our annual All-School Arts Night. Explore visual art exhibits\, enjoy music and drama performances\, and soak up a festival atmosphere with food trucks on site. Rain or shine\, the fun goes on! Prospective PK-5th parents/guardians and students are invited to attend this family-friendly event.</span></p></body></html>
LOCATION:
UID:e.3576.1441294
SEQUENCE:3
DTSTAMP:20260421T112839Z
URL:https://webflow.bendchamber.org/chamber-events/Details/admission-event-pk-5th-grade-campus-tour-all-school-arts-night-1706513?sourceTypeId=Hub
END:VEVENT
END:VCALENDAR
