BEGIN:VCALENDAR
VERSION:2.0
PRODID:-//ChamberMaster//Event Calendar 2.0//EN
METHOD:PUBLISH
X-PUBLISHED-TTL:P1H
REFRESH-INTERVAL:P1H
CALSCALE:GREGORIAN
BEGIN:VTIMEZONE
TZID:America/Los_Angeles
BEGIN:DAYLIGHT
RRULE:FREQ=YEARLY;BYMONTH=3;BYDAY=2SU
DTSTART:20070101T000000
TZOFFSETFROM:-0800
TZOFFSETTO:-0700
TZNAME:Pacific Daylight Time
END:DAYLIGHT
BEGIN:STANDARD
RRULE:FREQ=YEARLY;BYMONTH=11;BYDAY=1SU
DTSTART:20070101T000000
TZOFFSETFROM:-0700
TZOFFSETTO:-0800
TZNAME:Pacific Standard Time
END:STANDARD
END:VTIMEZONE
BEGIN:VEVENT
DTSTART;TZID=America/Los_Angeles:20260501T083000
DTEND;TZID=America/Los_Angeles:20260501T103000
X-MICROSOFT-CDO-ALLDAYEVENT:FALSE
SUMMARY:Admission Event: 6th Grade Information Session & School Day Tour
DESCRIPTION:Prospective parents/guardians and students are invited to learn more about Cascades Academy's Middle School and see the school day in action. Hear from school leaders and current students about their 6th-grade experience\, explore classrooms and learning spaces on a guided campus tour\, and discover how our program challenges and supports students as they grow in independence\, confidence\, and curiosity during these pivotal years.
X-ALT-DESC;FMTTYPE=text/html:<!DOCTYPE html><html><head><title></title></head><body aria-disabled="false"><p><meta charset="utf-8"><span style="color: rgb(34\, 34\, 34)\; font-family: Arial\, Helvetica\, sans-serif\; font-size: large\; font-style: normal\; font-variant-ligatures: normal\; font-variant-caps: normal\; font-weight: 400\; letter-spacing: normal\; orphans: 2\; text-align: start\; text-indent: 0px\; text-transform: none\; widows: 2\; word-spacing: 0px\; -webkit-text-stroke-width: 0px\; white-space: normal\; background-color: rgb(255\, 255\, 255)\; text-decoration-thickness: initial\; text-decoration-style: initial\; text-decoration-color: initial\; display: inline !important\; float: none\;">Prospective parents/guardians and students are invited to learn more about Cascades Academy&#39\;s Middle School and see the school day in action. Hear from school leaders and current students about their 6th-grade experience\, explore classrooms and learning spaces on a guided campus tour\, and discover how our program challenges and supports students as they grow in independence\, confidence\, and curiosity during these pivotal years.</span></p></body></html>
LOCATION:
UID:e.3576.1441297
SEQUENCE:3
DTSTAMP:20260421T112520Z
URL:https://webflow.bendchamber.org/chamber-events/Details/admission-event-6th-grade-information-session-school-day-tour-1706516?sourceTypeId=Hub
END:VEVENT
END:VCALENDAR
